BEGIN:VCALENDAR
VERSION:2.0
PRODID:-//Yoga for Depression - ECPv6.15.20//NONSGML v1.0//EN
CALSCALE:GREGORIAN
METHOD:PUBLISH
X-WR-CALNAME:Yoga for Depression
X-ORIGINAL-URL:https://yogafordepression.com
X-WR-CALDESC:Events for Yoga for Depression
REFRESH-INTERVAL;VALUE=DURATION:PT1H
X-Robots-Tag:noindex
X-PUBLISHED-TTL:PT1H
BEGIN:VTIMEZONE
TZID:America/Denver
BEGIN:DAYLIGHT
TZOFFSETFROM:-0700
TZOFFSETTO:-0600
TZNAME:MDT
DTSTART:20150308T090000
END:DAYLIGHT
BEGIN:STANDARD
TZOFFSETFROM:-0600
TZOFFSETTO:-0700
TZNAME:MST
DTSTART:20151101T080000
END:STANDARD
BEGIN:DAYLIGHT
TZOFFSETFROM:-0700
TZOFFSETTO:-0600
TZNAME:MDT
DTSTART:20160313T090000
END:DAYLIGHT
BEGIN:STANDARD
TZOFFSETFROM:-0600
TZOFFSETTO:-0700
TZNAME:MST
DTSTART:20161106T080000
END:STANDARD
BEGIN:DAYLIGHT
TZOFFSETFROM:-0700
TZOFFSETTO:-0600
TZNAME:MDT
DTSTART:20170312T090000
END:DAYLIGHT
BEGIN:STANDARD
TZOFFSETFROM:-0600
TZOFFSETTO:-0700
TZNAME:MST
DTSTART:20171105T080000
END:STANDARD
END:VTIMEZONE
BEGIN:VEVENT
DTSTART;TZID=America/Denver:20161008T130000
DTEND;TZID=America/Denver:20161008T150000
DTSTAMP:20260423T051716
CREATED:20160829T184803Z
LAST-MODIFIED:20160829T184803Z
UID:9103-1475931600-1475938800@yogafordepression.com
SUMMARY:LifeForce Yoga Chakra Clearing Meditation
DESCRIPTION:This class offers techniques that combine several strategies to focus and clear the mind. There is empirical evidence that along with anxiety and depression\, this practice helps those who suffer from obsessive compulsive disorder (OCD)\, characterized by intrusive and repetitive thoughts. The technique engages the mind with sound and breath and hand gestures called mudras. Experienced meditators can benefit from these techniques too.
URL:https://yogafordepression.com/event/lifeforce-yoga-chakra-clearing-meditation/
LOCATION:Soul Movement Yoga Studio\, 3612 S. Southeastern Ave\, Sioux Falls\, SD\, 57103\, United States
CATEGORIES:LFYP Events
GEO:43.511747;-96.6890873
X-APPLE-STRUCTURED-LOCATION;VALUE=URI;X-ADDRESS=Soul Movement Yoga Studio 3612 S. Southeastern Ave Sioux Falls SD 57103 United States;X-APPLE-RADIUS=500;X-TITLE=3612 S. Southeastern Ave:geo:-96.6890873,43.511747
END:VEVENT
BEGIN:VEVENT
DTSTART;TZID=America/Denver:20161001T130000
DTEND;TZID=America/Denver:20161001T150000
DTSTAMP:20260423T051716
CREATED:20160829T184556Z
LAST-MODIFIED:20160829T184556Z
UID:9100-1475326800-1475334000@yogafordepression.com
SUMMARY:Integrative LifeForce Yoga Class
DESCRIPTION:This class is a multi-layered practice that meets the individual’s mood\, then helps to shift the mood thus releasing the constrictions… and uncovering one’s true self – the precious being they really are. Through movement (asana)\, breathing techniques (pranayama)\, mantra (sound) and mudra (hand gestures) people get in touch with their bodies and begin to ‘feel’ again.
URL:https://yogafordepression.com/event/integrative-lifeforce-yoga-class/
LOCATION:Soul Movement Yoga Studio\, 3612 S. Southeastern Ave\, Sioux Falls\, SD\, 57103\, United States
CATEGORIES:LFYP Events
GEO:43.511747;-96.6890873
X-APPLE-STRUCTURED-LOCATION;VALUE=URI;X-ADDRESS=Soul Movement Yoga Studio 3612 S. Southeastern Ave Sioux Falls SD 57103 United States;X-APPLE-RADIUS=500;X-TITLE=3612 S. Southeastern Ave:geo:-96.6890873,43.511747
END:VEVENT
END:VCALENDAR