BEGIN:VCALENDAR
VERSION:2.0
PRODID:-//Yoga for Depression - ECPv6.15.20//NONSGML v1.0//EN
CALSCALE:GREGORIAN
METHOD:PUBLISH
X-ORIGINAL-URL:https://yogafordepression.com
X-WR-CALDESC:Events for Yoga for Depression
REFRESH-INTERVAL;VALUE=DURATION:PT1H
X-Robots-Tag:noindex
X-PUBLISHED-TTL:PT1H
BEGIN:VTIMEZONE
TZID:America/Los_Angeles
BEGIN:DAYLIGHT
TZOFFSETFROM:-0800
TZOFFSETTO:-0700
TZNAME:PDT
DTSTART:20190310T100000
END:DAYLIGHT
BEGIN:STANDARD
TZOFFSETFROM:-0700
TZOFFSETTO:-0800
TZNAME:PST
DTSTART:20191103T090000
END:STANDARD
BEGIN:DAYLIGHT
TZOFFSETFROM:-0800
TZOFFSETTO:-0700
TZNAME:PDT
DTSTART:20200308T100000
END:DAYLIGHT
BEGIN:STANDARD
TZOFFSETFROM:-0700
TZOFFSETTO:-0800
TZNAME:PST
DTSTART:20201101T090000
END:STANDARD
BEGIN:DAYLIGHT
TZOFFSETFROM:-0800
TZOFFSETTO:-0700
TZNAME:PDT
DTSTART:20210314T100000
END:DAYLIGHT
BEGIN:STANDARD
TZOFFSETFROM:-0700
TZOFFSETTO:-0800
TZNAME:PST
DTSTART:20211107T090000
END:STANDARD
END:VTIMEZONE
BEGIN:VEVENT
DTSTART;TZID=America/Los_Angeles:20200403T090000
DTEND;TZID=America/Los_Angeles:20200403T100000
DTSTAMP:20260425T084120
CREATED:20200331T192449Z
LAST-MODIFIED:20200331T192449Z
UID:15057-1585904400-1585908000@yogafordepression.com
SUMMARY:Om Shanti Mantra with Rose
DESCRIPTION:Part five in our series to cultivate peace\, relaxation\, and restful sleep via YouTube livestream. Rose leads a soothing and simple mantra practice to cultivate peace. \nThis event is free – a part of our free livestream series on YouTube to beat the coronavirus quarantine blues.
URL:https://yogafordepression.com/event/om-shanti-mantra-with-rose/
LOCATION:YouTube Livestream
CATEGORIES:Classes,Featured
END:VEVENT
BEGIN:VEVENT
DTSTART;TZID=America/Los_Angeles:20200402T090000
DTEND;TZID=America/Los_Angeles:20200402T093000
DTSTAMP:20260425T084120
CREATED:20200331T191819Z
LAST-MODIFIED:20200331T192758Z
UID:15055-1585818000-1585819800@yogafordepression.com
SUMMARY:Left Nostril Breathing for Relaxation with Rose
DESCRIPTION:Part three in our week long series of practices to cultivate relaxation and sleep. Join Rose as she leads chandra bhedana\, a breathing practice to create peace\, rest\, and relaxation. This is a perfect technique to help you sleep at night. \nThis event is free – a part of our free livestream series on YouTube to beat the coronavirus quarantine blues.
URL:https://yogafordepression.com/event/left-nostril-breath/
LOCATION:YouTube Livestream
CATEGORIES:Classes,Featured
END:VEVENT
BEGIN:VEVENT
DTSTART;TZID=America/Los_Angeles:20200401T163000
DTEND;TZID=America/Los_Angeles:20200401T170000
DTSTAMP:20260425T084120
CREATED:20200331T191424Z
LAST-MODIFIED:20200331T192652Z
UID:15053-1585758600-1585760400@yogafordepression.com
SUMMARY:Yoga Nidra for Sleep with Rose
DESCRIPTION:LifeForce Yoga Nidra practice for sleep with Rose via Livestream on YouTube. \nThis event is free – a part of our free livestream series on YouTube to beat the coronavirus quarantine blues.
URL:https://yogafordepression.com/event/yoga-nidra-for-sleep-with-rose/
LOCATION:YouTube Livestream
CATEGORIES:Classes,Featured
END:VEVENT
END:VCALENDAR